Workbook

Sheet Procesos y Actividades
C2: Nombre del Documento: MATRIZ DE CARACTERIZACIÓN DE PROCESOS Y ACTIVIDADES | M2: Código: M-SH-PGF-002
C3: Proceso: 14. Gestión Financiera y Fiscal | M3: Fecha: 08/05/2026
C4: Objetivo del Proceso: Formular, dirigir y evaluar la Política Fiscal del municipio mediante la planeación financiera, gestión presupuestal y análisis contable, con el fin de garantizar la disponibilidad y transparencia en la administración de los recursos financieros legales. | M4: Versión: 005
C5: Alcance del Proceso: El proceso inicia con la dirección de la Secretaría de Hacienda teniendo como soporte la normatividad nacional y municipal, así como los planes de gobierno, y finaliza con la actividad gestión de ingresos que se dinamiza mediante las operaciones de tesorería, liquidación y fiscalización y las ejecuciones fiscales. | M5: Página: 1 de 1
B7: Proveedores | D7: Entradas | G7: Actividades - Operaciones | K7: Salidas | M7: Usuarios
G9: 14.1 Dirección
G10: Operaciones
B11: Departamento administrativo de Función Pública. | D11: Manual de Contratación | G11: a. Contratación | K11: Contratos de servicios profesional y apoyo a la gestión | M11: SecretarÍa de Hacienda
B12: Secretaria de Hacienda | D12: Código de Rentas | K12: Justificación de necesidades de bienes y servicios | M12: Departamento Administrativo Juridico
B13: DAFP | D13: Normatividad | K13: Justificación de necesidades de bienes y servicios | M13: Departamento Administrativo de Bienes y Suministros
B14: Congreso de la República | D14: Código de Procedimiento Administrativo ( ley 1437 de 2011) Normatividad | G14: b. Proyección y elaboración de actos administrativos | K14: Notificaciones de la administración tributaria | M14: Corporación Concejo Municipal de Armenia
K15: Notificaciones de la administración tributaria | M15: Consejo Municipal de Política Fiscal (COMFIS)
B16: Departamento Nacional de Planeación-DNP | D16: Acuerdo de Autorización para endeudamiento | G16: c. Deuda Pública | K16: Plan Financiero y capacidad de endeudamiento. . | M16: Usuarios Internos y externos, Entes de control y Entidades financieras
B17: Congreso de la República | D17: Normatividad: Ley 358 de 1997 | K17: Certificado de capacidad de endeudamiento y calificación del riesgo | M17: Entidades Financieras
B18: Contabilidad | D18: Estados financieros | K18: Proyecto de Acuerdo autorización operación del crédito | M18: Concejo Municipal
K19: Contratos de empréstito de deuda pública y pagares | M19: Secretaría de Hacienda
K20: Seguimiento a la deuda. | M20: Secretaria de Hacienda
K21: Modificaciones de deuda | M21: Secretaria de Hacienda
B22: Contribuyente y usuarios | D22: Derechos de Petición - PQRSD | G22: d. Exoneraciones y exclusiones | K22: Acto Administrativo | M22: Tesorería Contribuyente
B23: Departamento administrativo de Función Pública. | D23: Normatividad
B25: Gobierno Nacional, Congreso de la República, Asamblea Departamental del Quindío, Corporación Concejo Municipal de Armenia | D25: Planes de Desarrollo | G25: e. Planeación estratégica | K25: Plan de acción | M25: Departamento Administrativo de Planeación, Control Interno, Entes de control y Juntas administradoras locales
B26: Gobierno Nacional | D26: Decreto 1499 de 2017 | K26: Proyectos y avances | M26: PIIP-Plataforma integrada de inversión pública
B27: Congreso de la República | D27: Normatividad | K27: Matriz de caracterización de procesos y procedimientos normalizadas | M27: Sistema de Calidad
B28: Departamento Nacional de Planeación-DNP | D28: Plataforma PIIP, MGA, SGR | K28: Matrices de no conformidad normalizadas | M28: Sistema de Calidad
B29: Concejo Municipal de Armenia | D29: Acuerdos | K29: Matrices de riesgos normalizadas | M29: Departamento Administrativo de Planeación, Control Interno.
K30: Planes de mejora | M30: Entes de control externos e interno
K31: Acciones correctivas, preventivas y detectivas | M31: Sistema de Calidad
K32: Seguimiento a planes de mejora | M32: Entes de control
G34: 14.2 Gestión Financiera
G35: 14.2.1 Presupuesto
G36: Operaciones
B37: Departamento Administrativo Planeación | D37: Plan Operativo Anual de Inversiones POAI | G37: a. Elaboración del Proyecto del Presupuesto Municipal | K37: Proyecto de acuerdo presupuesto municipal con anexos | M37: Usuarios internos y externos y entes de control
B38: Secretaría de Hacienda | D38: Deuda pública
B39: Departamento Administrativo de Bienes y Suministros, DAFI | D39: Gastos de funcionamiento
B40: Departamento Juridico, Normograma | D40: Normatividad interna y externa
B41: Secretaria de Hacienda | D41: Distribución de Techos Presupuestales
B42: Secretaria de Hacienda | D42: Marco fiscal MFMP
B43: Área de Presupuesto | D43: Proyecto de acuerdo de presupuesto municipal con anexos (Plan anual de inversiones, proyecto de rentas y gastos y el resultado fiscal). | G43: b. Presentación y liquidación del presupuesto municipal | K43: Proyecto de presupuesto aprobado por el Concejo y con sus anexos Decreto de liquidación del presupuesto | M43: Usuarios internos y externos y entes de control
B44: Todas las dependencias | D44: Información desagregada de las áreas, departamentos y los rubros y arbol presupuestal de cada una de las dependencias
B45: Planeación | D45: Banco de proyectos | G45: c. Ejecución de presupuesto y cierre presupuestal | K45: PAC - Programa anual mensualizado de caja Certificados y registros presupuestales Acta de cierre presupuestal (validar saldos de cada uno de los rubros presupuestal verificando deficit o superavit ) Modificaciones presupuestales para el COMFIS | M45: Usuarios internos.
...

Sheet 14.1 Dirección
F1: =+'Procesos y Actividades'!M2 -> Código: M-SH-PGF-002 | G1: =+'Procesos y Actividades'!M3 -> Fecha: 08/05/2026 | H1: =+'Procesos y Actividades'!M4 -> Versión: 005
A2: # | B2: Tareas | D2: PHVA | E2: Punto de Control | F2: Responsable | G2: Registro/Evidencias | H2: Serie y subserie
A3: Actividad: 14.1 Dirección
A4: Operación: a. Contratación
A5: 1 | B5: Planificar e identificar las necesidades y cantidades de contratistas a requerir para el cumplimiento de los planes y actividades a realizarse en la Secretaria de hacienda. | D5: P | F5: Secretario (a) Hacienda Profesional Universitario Funcionario designado por el área | G5: Plan de Contratación | H5: SERIE: CONTRATOS SUBSERIE: Contratos de prestación de servicios
A6: 2 | B6: Recibir los documentos requeridos para la contratación de la Secretaria de hacienda para la validación del SIGEP. | D6: H | E6: Revisar los documentos expedidos | F6: Secretario (a) Hacienda Profesional Universitario Funcionario designado por el área | G6: SIGEP Evidencia punto de control: Lista de chequeo contratos de prestación de servicios profesionales y/o apoyo a la gestión.
A7: 3 | B7: Realizar parte de la publicación del proceso precontractual y contractual. | D7: H | F7: Secretario (a) Hacienda Profesional Universitario Funcionario designado por el área . | G7: SECOP II
A8: 4 | B8: Publicar y firmar los documentos de contratación en la plataforma SECOP II | D8: H | F8: Secretario (a) Hacienda Profesional Universitario Funcionario designado por el área | G8: SECOP II
A9: 5 | B9: Realizar la solicitud de el registro presupuestal en la plataforma PCT y realizar la afiliación a ARL de los contratistas de la Secretaria de Hacienda | D9: H | F9: Secretario (a) Hacienda Profesional Universitario Funcionario designado por el área | G9: Plataforma ARL
A10: 6 | B10: Realizar la publicación del contrato en la plataforma SIA observa. | D10: H | F10: Secretario (a) Hacienda Profesional Universitario Funcionario designado por el área. | G10: SIA
A11: 7 | B11: Realizar el seguimiento de los procesos de contratación según el manual vigente | D11: V | F11: Secretario (a) Hacienda Profesional Universitario Funcionario designado por el área. | G11: Expedientes contractuales
A12: 8 | B12: Formular y ejecutar acciones correctivas y preventivas de mejora, planes de mejoramiento y actividades de autocontrol. | D12: A | F12: Secretario (a) Hacienda Profesional Universitario Funcionario designado por el área. | G12: Informe de acciones correctivas | H12: SERIE: PLANES SUBSERIE: Planes de Acción Institucional
A14: Recursos: Equipo de Oficina –Equipo de Cómputo- Recurso Humano. Documentación Aplicada: Código de rentas, Decreto 135, Código de procedimiento Administrativo y de lo Contencioso Administrativo (Ley 1437 2011), Ley 1150, Manual de contratación vigente, Decreto 1499 de 2017.
A16: Operación: b. Proyección y elaboración de actos administrativos
A17: 1 | B17: Planificar e identificar la necesidad y recurrencia de documentos administrativos en procesos de la Secretaria de Hacienda. | D17: P | F17: Secretario (a) Hacienda Profesional Universitario Funcionario designado por el área | G17: Documentos Administrativos | H17: SERIE: ACTOS ADMINISTRATIVOS SUBSERIE: Resoluciones administrativas SERIE: DERECHOS DE PETICIÓN SERIE: INFORMES SUBSERIE: Informes de Gestión SERIE: ACTAS SUBSERIE: Actas de Comité Operativo
A18: 2 | B18: Preparar y expedir los Actos Administrativos, derechos de petición, como también los contratos para la ejecución del proceso Financiero. | D18: H | F18: Secretario (a) Hacienda Profesional Universitario Funcionario designado por el área | G18: Actos Administrativos Derechos de Petición
A19: 3 | B19: Realizar el respectivo informe de las juntas de impuestos y comités de conciliaciones municipales que se presenten en la dependencia. | D19: H | E19: Elaborar un formato de informe de manera que se logre la parametrización del mismo. | F19: Secretario (a) Hacienda Profesional Universitario Funcionario designado por el área | G19: Informes Evidenca punto de control: Formato de informe parametrizado
A20: 4 | B20: Verificar que el proceso expedición de actos administrativos y derechos de petición se estén realizando efectivamente y que los documentos lleguen a su receptor. | D20: V | F20: Secretario (a) Hacienda Profesional Universitario Funcionario designado por el área | G20: Actos Administrativos Derechos de Petición Contratos
A21: 5 | B21: Formular y ejecutar acciones correctivas y preventivas de mejora, planes de mejoramiento y actividades de autocontrol. | D21: A | F21: Secretario (a) Hacienda , Profesional Universitario | G21: Actas comité operativo y planes de mejoramiento.
A23: Recursos: Equipo de Oficina –Equipo de Cómputo- Recurso Humano. Documentación Aplicada: Código de rentas, Decreto 135, Decreto 1499 de 2017, Código de procedimiento Administrativo y de lo Contencioso Administrativo (Ley 1437 2011), Ley 1150
A25: Operación:c. Deuda Pública
A26: 1 | B26: Planificar la programación de la Deuda Pública, incluyendo las necesidades de financiamiento de proyectos según el Plan de Desarrollo Municipal. | D26: P | F26: Secretario (a) Hacienda Profesional Universitario Jefe de oficina (Jefatura Financiera). | G26: Plan Financiero y Capacidad de Endeudamiento | H26: SERIE: INFORMES SUBSERIE: Informes de deuda pública
A27: 2 | B27: Proyectar e identificar los posibles pagos derivados del servicio de la deuda según los créditos contratados. | D27: P | F27: Secretario (a) Hacienda Profesional Universitario Jefe de oficina (Jefatura Financiera). | G27: Proyecciones de Pagos
A28: 3 | B28: Realizar los estudios correspondientes y análisis con la firma calificadora autorizada, en materia de capacidad de endeudamiento del Municipio. | D28: H | F28: Secretario (a) Hacienda Profesional Universitario Jefe de oficina (Jefatura Financiera). | G28: Certificado de capacidad de endeudamiento y calificación de riesgo
A29: 4 | B29: Realizar las proyecciones financieras que permiten la consolidación del Proyecto de Acuerdo para solicitarle al Concejo Municipal, autorización para la celebración de operaciones de crédito público. | D29: H | F29: Secretario (a) Hacienda Profesional Universitario Jefe de oficina (Jefatura Financiera). | G29: Proyecto de Acuerdo Autorización operación de Crédito
A30: 5 | B30: Presentar ante el COMFIS, las propuestas para contratar operaciones de crédito público, enviadas por las diferentes entidades financieras con el fin de que estas sean evaluadas y así aprobar las mejores condiciones crediticias. | D30: H | E30: Realizar analisis financiero de tiempos y tasas ofrecidas por entidades financieras | F30: Secretario (a) Hacienda Profesional Universitario Jefe de oficina (Jefatura Financiera). | G30: Acta de COMFIS aprobada Evidencia control: análisis financiero en excel
A31: 6 | B31: Contratar recursos con la Banca Financiera conforme a la operación de crédito autorizada por el Concejo Municipal y por el COMFIS. | D31: H | F31: Secretario (a) Hacienda Profesional Universitario Jefe de oficina (Jefatura Financiera). | G31: Contratos de Empréstito de Deuda Publica y pagares
A32: 7 | B32: Registro de los contratos de empréstitos ante el Ministerio de Hacienda y Crédito Público y la Contraloría Municipal. | D32: H | F32: Secretario (a) Hacienda Profesional Universitario Jefe de oficina (Jefatura Financiera). | G32: Certificaciones de Registro y de Publicación
A33: 8 | B33: Realizar los respectivos desembolsos de acuerdo a la necesidad de recursos que tengan las diferentes Dependencias del Municipio que vayan a desarrollar la inversión | D33: H | F33: Secretario (a) Hacienda Profesional Universitario Jefe de oficina (Jefatura Financiera). | G33: Pagarés y notas de desembolso
A34: 9 | B34: Realizar el correspondiente pago de Capital y de intereses según el cronograma de pagos con sus respectivos soportes presupuestales y contables | D34: H | F34: Secretario (a) Hacienda Profesional Universitario Jefe de oficina (Jefatura Financiera). | G34: Registro Presupuestal, Causación y soporte del Banco
A35: 10 | B35: Realizar informe del Estado de la Deuda Pública mensualmente y presentarlo a la Contraloría Municipal los tres primeros días de cada mes. | D35: H | F35: Secretario (a) Hacienda Profesional Universitario Jefe de oficina (Jefatura Financiera). | G35: Informe del estado de la Deuda Pública
A36: 11 | B36: Realizar informe del SEUD mensualmente y presentarlo al Ministerio de Hacienda y Crédito Público por correo electrónico los primeros 5 días de cada mes. | D36: H | F36: Secretario (a) Hacienda Profesional Universitario Jefe de oficina (Jefatura Financiera). | G36: Informe del SEUD
A37: 12 | B37: Ajustar constantemente los valores a pagar del servicio de la deuda de acuerdo a las variaciones de los intereses DTF e IBR. | D37: H | F37: Secretario (a) Hacienda Profesional Universitario Jefe de oficina (Jefatura Financiera). | G37: Proyecciones de Pagos
A38: 13 | B38: Verificar que todos los pagos de Deuda Pública se estén realizando en las fechas establecidas y las cifras proyectadas | D38: V | F38: Secretario (a) Hacienda Profesional Universitario Jefe de oficina (Jefatura Financiera). | G38: Archivo en Excel
A39: 14 | B39: Formular y ejecutar acciones correctivas y preventivas de mejora, planes de mejoramiento y actividades de autocontrol. | D39: A | F39: Secretario (a) Hacienda Profesional Universitario Jefe de oficina (Jefatura Financiera). | G39: Informe de acciones correctivas | H39: SERIE: ACTAS SUBSERIE: Actas de comité operativo SERIE: PLANES SUBSERIE: Planes de Acción Institucional
A41: Recursos: Equipo de Oficina –Equipo de Cómputo- Recurso Humano. Documentación Aplicada: Constitución Política, Ley 132 1994; Ley 152 de 1994, Ley 1551 de 2012, Plan Nacional de Desarrollo, Instructivo para entidades territoriales de formulación Plan de Desarrollo del DNP, programa de gobierno, ISO 9001:2015- Ley 136 1994; Ley 152 de 1994, Plan de desarrollo Municipal de Armenia. Ley 819 de 2003, Ley 358 de 1997 y la Ley 617 de 2000, Ley 80 de 1993, Ley 1150 de 2007, Decreto 734 de 2012, Ley 1437 de 2011, Plan de Acción, Decreto Delegación Para Contratar, Ley 80 de 1993 artículo 100 del Acuerdo No. 032 de 1996. Decreto 2681 de 1993, ISO 9001:2015. Articulo 295 y 364 Constitución Política, articulo 236 decreto 1333 de 1986, articulo 41 Ley 80 de 1993, Ley 819 de 2003, artículo 100 del Acuerdo No. 032 de 1996, Ley 358 de 1997, Ley 617 de 2000, Decreto 1499 de 2017.
A43: Operación:d. Exoneraciones y exclusiones
A44: 1 | B44: Establecer normas internas y procedimientos para la aplicación de exoneraciones y exclusiones | D44: P | F44: Secretario (a) Hacienda Profesional Universitario Jefe de oficina | G44: Estatuto Tributario | H44: SERIE: ACTOS ADMINISTRATIVOS SUBSERIE: Resoluciones administrativas SERIE: DERECHOS DE PETICIÓN SERIE: INFORMES SUBSERIE: Informes de Gestión SERIE: ACTAS SUBSERIES: Actas de reuniones
A45: 2 | B45: Identificar los tipos de exoneraciones y exclusiones vigentes en predial, industria y comercio, estampillas, intereses, sanciones y otros | D45: P | F45: Secretario (a) Hacienda Profesional Universitario Jefe de oficina | G45: Acta de reunión donde se establecen los parametros
A46: 3 | B46: Recepción de solicitudes por los diferentes medios autorizados | D46: H | F46: Secretario (a) Hacienda Profesional Universitario Jefe de oficina | G46: Radicado generado en intraweb
...

Sheet 14.2.1 Presupuesto
F1: =+'Procesos y Actividades'!M2 -> Código: M-SH-PGF-002 | G1: =+'Procesos y Actividades'!M3 -> Fecha: 08/05/2026 | H1: =+'Procesos y Actividades'!M4 -> Versión: 005
A2: # | B2: Tareas | D2: PHVA | E2: Puntos de control | F2: Responsable | G2: Registro/Evidencia | H2: Serie y subserie
A3: Actividad: 14.2.1. Presupuesto
A4: Operación: a. Elaboración del Presupuesto Municipal
A5: 1 | B5: Definir los lineamientos mediante el cual se solicitará la información necesaria y los plazos para la elaboración del proyecto del presupuesto | D5: P | F5: Profesional Especializado Área de Presupuesto, Jefe de oficina (Jefatura Financiera). | G5: Oficio de Remisión de techos presupuestales | H5: SERIE: ANTEPROYECTO DE PRESUPUESTO
A6: 2 | B6: Programar los plazos conforme a normatividad vigente de acuerdo con las solicitudes enviadas por los órganos que hacen parte del Presupuesto del Municipio. | D6: P | F6: Profesional Especializado Área de Presupuesto, Jefe de oficina (Jefatura Financiera). | G6: Documento de proyecciones de ingresos.
A7: 3 | B7: Elaborar el anteproyecto de presupuesto Municipal | D7: H | F7: Profesional Especializado Área de Presupuesto, Jefe de oficina (Jefatura Financiera). | G7: Documento | H7: SERIE: ANTEPROYECTO DE PRESUPUESTO
A8: 4 | B8: Adelantar el proceso de elaboración del presupuesto municipal en coordinación con el Departamento Administrativo de Planeación | D8: H | E8: Verificar la realización de reuniones o mesas de trabajo conjuntas con la secretaria de Planeación, dejando actas que evidencien acuerdos sobre la proyección de ingresos y gastos. | F8: Profesional Especializado Área de Presupuesto, Jefe de oficina (Jefatura Financiera). | G8: Proyecto de acto administrativo Evidencia punto de control: Actas de reuniones y asistencia mesas de trabajo
A9: 5 | B9: Elaborar el Marco Fiscal de Mediano Plazo como anexo al presupuesto de cada vigencia | D9: H | F9: Profesional Especializado Área de Presupuesto, Jefe de oficina (Jefatura Financiera). | G9: Documento | H9: SERIE: ANTEPROYECTO DE PRESUPUESTO
A10: 6 | B10: Verificar la correcta elaboración y consistencia del Marco Fiscal de Mediano Plazo, garantizando que la información esté alineada con las proyecciones financieras. | D10: V | F10: Profesional Especializado Área de Presupuesto, Jefe de oficina (Jefatura Financiera). | G10: Proyecto de acto administrativo
A11: 7 | B11: Revisar el cumplimiento de los lineamientos establecidos para la solicitud y consolidación de la información presupuestal. | D11: V | F11: Profesional Especializado Área de Presupuesto, Jefe de oficina (Jefatura Financiera). | G11: Proyecto de acto administrativo
A12: 8 | B12: Evaluar la coherencia entre el anteproyecto de presupuesto y los criterios definidos en el proceso de planeación | D12: V | F12: Profesional Especializado Área de Presupuesto, Jefe de oficina (Jefatura Financiera). | G12: Proyecto de acto administrativo
A13: 9 | B13: Formular y ejecutar acciones correctivas y preventivas de mejora, planes de mejoramiento y actividades de autocontrol. | D13: A | F13: Profesional Especializado Área de Presupuesto, Jefe de oficina (Jefatura Financiera). | G13: Actas de Comité Operativo, oficios
A15: Recursos: Equipo de Cómputo y Recurso Humano. Documentación Aplicada: Constitución Política; Ley 136 de 1994, Decreto 111 de 1996; acuerdo 032 de 1996; ley 617 de 2000; ley 715 de 2001, ley 819 de 2003, Constitución Política; Ley 136 de 1994, Decreto 111 de 1996; acuerdo 032 de 1996; ley 617 de 2000; ley 715 de 2001, ley 819 de 2003, ISO 9001:2015, Decreto 1499 de 2017.Acuerdo 181 de 2020.
A17: Operación: b. Presentación y Liquidación del Presupuesto Municipal
A18: 1 | B18: Planificar e identificar las necesidades del proyecto de presupuesto con sus anexos al Concejo. | D18: P | F18: Profesional Especializado Área de Presupuesto, Jefe financiero, Secretario (a) de Hacienda | G18: Proyecto de acuerdo | H18: SERIE: ANTEPROYECTO DE PRESUPUESTO
A19: 2 | B19: Presentar el Proyecto de presupuesto con sus anexos al Concejo (Plan anual de inversiones, proyecto de rentas y gastos y el resultado fiscal), el primer día hábil del mes de octubre. | D19: H | E19: Revisar y validar, antes de la radicación ante el Concejo, que los anexos del Proyecto de Presupuesto (Plan Anual de Inversiones, Proyecto de Rentas y Gastos y Resultado Fiscal) estén completos, firmados por los responsables y coherentes con las cifras consolidadas. | F19: Profesional Especializado Área de Presupuesto, Jefe financiero, Secretario (a) de Hacienda | G19: Proyecto de acuerdo Evidencia punto de control: Lista de chequeo
A20: 3 | B20: Preparar el Decreto de Liquidación y de repetición del presupuesto cuando así se requiera | D20: H | F20: Profesional Especializado Área Presupuesto, Secretario (a) de Hacienda | G20: Borrador de Decreto
A21: 4 | B21: Validar que las normas que regulan la gestión del presupuesto estén vigentes y estén correctamente aplicadas en el Proyecto de Acuerdo. | D21: V | F21: Profesional Especializado Área Presupuesto, Secretario (a) de Hacienda | G21: NA
A22: 5 | B22: Formular y ejecutar acciones correctivas y preventivas de mejora, planes de mejoramiento y actividades de autocontrol. | D22: A | F22: Profesional Especializado Área de Presupuesto | G22: Actas de Comité Operativo, oficios, Planes de mejoramiento
A24: Recursos: Equipo de Cómputo y Recurso Humano. Documentación Aplicada: Constitución Política; Ley 136 de 1994, Decreto 111 de 1996; acuerdo 032 de 1996; ley 617 de 2000; ley 715 de 2001, ley 819 de 2003, Constitución Política; Ley 136 de 1994, Decreto 111 de 1996; acuerdo 032 de 1996; ley 617 de 2000; ley 715 de 2001, ley 819 de 2003, ISO 9001:2015, Decreto 1499 de 2017.Acuerdo 181 de 2020.
A26: Operación: c. Ejecución de presupuesto y cierre presupuestal
A27: 1 | B27: Programar la revisión de las solicitudes de Disponibilidad y Registro presupuestal de todas las dependencias acorde con el recaudo de Ingresos | D27: P | F27: Profesional Especializado Área de Presupuesto | G27: Certificado de Disponibilidad Presupuestal, Registro Presupuestal, aplicativo financiero, ejecución de gastos | H27: N/A
A28: 2 | B28: Ejecutar las rentas, gastos e inversión del presupuesto municipal | D28: H | F28: Profesional Especializado Área de Presupuesto | G28: Aplicativo Financiero y ejecución de ingresos
A29: 3 | B29: Coordinar, ejecutar y controlar el movimiento presupuestal y en general de todos los movimientos relacionados con la ejecución presupuestal conforme a la ley orgánica de presupuesto | D29: H | F29: Profesional Especializado Área de Presupuesto | G29: Ejecuciones Presupuestales, aplicativo | H29: SERIE: ANTEPROYECTO DE PRESUPUESTO SERIE: INFORMES SUBSERIE: Informes de ejecución presupuestal SERIE: PRESUPUESTO DE INGRESOS Y GASTOS
A30: 4 | B30: Coordinar la operación, procedimiento y actualización de la información presupuestal del Municipio. | D30: H | F30: Profesional Especializado Área de Presupuesto | G30: Ejecuciones Presupuestales, aplicativo
A31: 5 | B31: Suministrar información necesaria de tipo presupuestal a quien lo requiera | D31: H | F31: Profesional Especializado Área de Presupuesto | G31: Ejecuciones Presupuestales, aplicativo
A32: 6 | B32: Coordinar el proceso de cierre de vigencia presupuestal | D32: H | F32: Profesional Especializado Área de Presupuesto | G32: Ejecuciones Presupuestales, aplicativo
A33: 7 | B33: Analizar, construir y registrar las reservas presupuestales | D33: H | F33: Profesional Especializado Área de Presupuesto | G33: Ejecuciones Presupuestales, aplicativo
A34: 8 | B34: Publicar la Ejecución de Ingresos, Gastos e Inversión en la página de la Alcaldía de Armenia | D34: H | F34: Profesional Especializado Área de Presupuesto | G34: Proyecto Acto Administrativo | H34: SERIE: ACTAS SUBSERIE: ACTAS DE COMITÉ OPERATIVO
A35: 9 | B35: Verificar que los registros presupuestales, y certificaciones cumplan con los lineamientos normativos y de calidad además de la validación de documentación correspondiente. | D35: V | F35: Profesional Especializado Área de Presupuesto | G35: Certificado de Disponibilidad Presupuestal, Registro Presupuestal, aplicativo financiero, ejecución de gastos
A36: 10 | B36: Validar que los saldos presupuestales coincidan con los la información presupuestal de cada secretaría | D36: V | E36: Revisar los reportes de ejecución presupuestal consolidados y compararlos con los informes de cada secretaría, dejando evidencia de conciliación y ajustes realizados en caso de diferencias. | F36: Profesional Especializado Área de Presupuesto | G36: Ejecución de gastos aplicativo financiero. Evidencia punto de control: Reporte actualizado de la ejecución presupuestal
A37: 11 | B37: Documentar las inconsistencias encontradas y elaborar informes | D37: V | F37: Profesional Especializado Área de Presupuesto | G37: Informe de inconsistencias
A38: 12 | B38: Formular y ejecutar acciones correctivas y preventivas de mejora, planes de mejoramiento y actividades de autocontrol. | D38: A | F38: Profesional Especializado Área de Presupuesto | G38: Actas de Comité Operativo, oficios
A40: Recursos: Equipo de Cómputo y Recurso Humano. Documentación Aplicada: Constitución Política; Ley 136 de 1994, Decreto 111 de 1996; acuerdo 032 de 1996; ley 617 de 2000; ley 715 de 2001, ley 819 de 2003, Constitución Política; Ley 136 de 1994, Decreto 111 de 1996; acuerdo 032 de 1996; ley 617 de 2000; ley 715 de 2001, ley 819 de 2003, ISO 9001:2015, Decreto 1499 de 2017.Acuerdo 181 de 2020.
A42: Operación: d. Presentación de Informes
A43: 1 | B43: Planificar e identificar con todas las dependencias la información necesaria para elaborar los informes. | D43: P | E43: Verificar que cada dependencia remita la información solicitada de manera completa y dentro del plazo establecido, dejando evidencia de la comunicación y recepción de los datos requeridos para la elaboración de los informes. | F43: Profesional Especializado Área de Presupuesto | G43: Ejecuciones Presupuestales, aplicativo Evidencia punto de control: correos electronicos enviados solicitando información a cada dependencia | H43: SERIE: INFORMES DE EJECUCION PRESUPUESTAL
A44: 2 | B44: Homologar y validar rubros de acuerdo al informe que se necesite (SIRECI, CGR Presupuestal, CHIP-FUT, Rendición de la Cuenta, Regalías). | D44: H | F44: Profesional Especializado Área de Presupuesto | G44: Ejecuciones Presupuestales, aplicativo
A45: 3 | B45: Atender y dar respuesta de forma oportuna a los requerimientos que efectúen los entes de control y la comunidad. | D45: H | F45: Profesional Especializado Área de Presupuesto | G45: Aplicativo Chip
A46: 4 | B46: Proyectar la sustanciación y acompañamiento de los proyectos de Acuerdos, ante el Concejo Municipal | D46: H | F46: Profesional Especializado Área de Presupuesto | G46: Informes. oficios
...

Sheet 14.2.2 Contabilidad
F1: =+'Procesos y Actividades'!M2 -> Código: M-SH-PGF-002 | G1: =+'Procesos y Actividades'!M3 -> Fecha: 08/05/2026 | H1: =+'Procesos y Actividades'!M4 -> Versión: 005
A2: # | B2: Tareas | D2: PHVA | E2: Punto de Control | F2: Responsable | G2: Registro/Evidencias | H2: Serie y subserie
A3: Actividad: 14.2.2 Contabilidad
A4: Operación: a -Tramite elaboracion de cuentas
A5: 1 | B5: Establecer los documentos soportes que son requeridos para la elaboración y pago de cuentas. | D5: P | F5: Funcionario designado del área de contabilidad, Profesional Especializado, Jefe de oficina (Jefatura Financiera). | G5: Se creo una lista de chequeo con los documentos anexos que requiere cada tipo de contrato | H5: SERIE: COMPROBANTES SUBSERIE: Comprobantes de egreso
A6: 2 | B6: Recibir la cuenta de pago revisando los que los documentos soportes esten completos, y que los datos como: número de contrato, fecha del acta de supervisión, fecha de inicio y finalización del contrato, numero de planilla, recibo de pago de seguridad social, valor total del contrato, periodo y valor a cobrar , numero de RP, codigo rubro presupuestal, sean los correctos. | D6: H | E6: Validar con la lista de chequeo Código: R-SH-PGF-008 Fecha: 02/12//2021 que los documentos esten completos | F6: Funcionario designado del área de contabilidad, Profesional Especializado, Jefe de oficina (Jefatura Financiera). | G6: Despues de recibir la cuenta se radica en el drive de control de recepcion de cuentas. Evidencia control: Lista de chequeo
A7: 3 | B7: Ingresar a la plataforma de la Contratación Publica SECOP II, y corroborar que la cuenta este creada y con los documentos cargados, para proceder a aprobar o rechazar. | D7: H | F7: Funcionario designado del área de contabilidad, Profesional Especializado, Jefe de oficina (Jefatura Financiera). | G7: El registro de aprobacion o rechazo en la plataforma de SECOP.
A8: 4 | B8: Ingresar a la plataforma edesk prisma de la gobernacion del Quindio para verificar que este pre-liquidada la estampilla pro hospital . | D8: H | F8: Funcionario designado del área de contabilidad, Profesional Especializado, Jefe de oficina (Jefatura Financiera). | G8: Consulta de la estampilla en la plataforma.
A9: 5 | B9: Elaborar la orden de pago y documento equivalente (cuando no se presente factura), en el sistema financiero designado, relacionando tipo de contrato, cuentas contables, y descuentos a realizar. | D9: H | F9: Funcionario designado del área de contabilidad, Profesional Especializado, Jefe de oficina (Jefatura Financiera). | G9: Las ordenes de pago que quedan registradas en el software financiero.
A10: 6 | B10: Proceder a la causacion de las cuentas elaboradas, verificando la afectacion contable y los descuentos aplicados. | D10: V | F10: Funcionario designado del área de contabilidad, Profesional Especializado, Jefe de oficina (Jefatura Financiera). | G10: El registro que queda en el modulo de causacion del software financiero, asi como la firma en la orden de pago.
A11: 7 | B11: Formular y ejecutar acciones correctivas-preventivas, planes de mejoramiento y actividades de control. | D11: A | F11: Funcionario designado del área de contabilidad, Profesional Especializado, Jefe de oficina (Jefatura Financiera). | G11: Las acciones que se realizan, como capacitaciones, planes de trabajo, cronogramas,manuales, formatos.
A12: Recursos: Equipo de Oficina – Recurso humano, Equipo de Cómputo Documentación Aplicada: Resolución 354 de 2007 Régimen de Contabilidad Pública, Resoluciones 355, 356 del 2007 Resolución 357 de 2008, Ley 80 de 1993, Ley 1150 de 2007, Decreto 734 de 2012, Decreto 111 de 1996, Estatuto Tributario Nacional, Ordenanzas estampillas, Acuerdo 229/2021. Ordenanzas No. 016 y 018 de Noviembre 28 de 2016. Ley 1819 de 2016, ISO 9001:2015,Decreto 1499 de 2017, Resoluciones 355, 356 del 2007 2007, Resolución 357 de 2008.
A14: Operación: b. Tramite de Nóminas y Prestaciones Sociales
A15: 1 | B15: Para elaborar la nomina de la planta del Municipio de Armenia, se requiere que DAFI, remita a traves de correo electrónico, la integracion de la nomina, entre el software de nomina y el sistema financiero, asi como, el archivo excel del reporte que genera el sistema de nómina. Para elaborar la nomina de la Secretaria de Educacion se requiere que sean radicadas en el area de contabilidad. | D15: P | F15: Funcionario designado del área de contabilidad, Profesional Especializado, Jefe de oficina (Jefatura Financiera). | G15: La integracion de la nomina que queda registrada en el software contable, en el modulo de presupuesto. | H15: SERIE: COMPROBANTES SUBSERIE: Comprobantes de egreso
A16: 2 | B16: Recibido el reporte de la integración de la nómina, se procede a realizar las revisiones y validaciones pertinentes con el archivo excel enviado por DAFI, para verificar aspectos como: * Que no hayan pagos dobles * Que los Nits corresponden a los terceros * Que las cuentas contables correspondan a los conceptos del devengo y deducciones * Que los valores totales del devengo y deducciones sean iguales en ambos archivos. Despues de validar la informacion se solicita a DAFI el envío de las nóminas físicas. | D16: H | E16: Establecer terminos de fechas para cada quincena, en cuanto a la entrega por parte de DAFI de la informacion requerida para el inicio de tramite. | F16: Funcionario designado del área de contabilidad, Profesional Especializado, Jefe de oficina (Jefatura Financiera). | G16: La aprobacion de la revision y el visto bueno para que DAFI, proceda a solicitar la expedicion de los registros presupuestales. Evidencia punto de control: Correo enviado por nomina
A17: 3 | B17: Registrar en el Sistema Financiero, las ordenes de pago, con la afectacion de los descuentos y deducciones, los aportes a la seguridad social y aportes patronales de la Nomina de la Administración Central del Municipio, asi como, de la Nomina de Docentes y Directivos Docentes de la Secretaria de Educación Municipal, con su respectiva afectación contable. | D17: H | F17: Funcionario designado del área de contabilidad, Profesional Especializado, Jefe de oficina (Jefatura Financiera). | G17: Las ordenes de pago que se imprimen y quedan registradas en el software financiero.
A18: 4 | B18: Verificar que las causaciones estén debidamente elaboradas, aplicando las cuentas contables correspondientes y que contengan los respectivos documentos que soportan el pago de la Nomina. De ser correctas, pasan a firmas del contador del municipio, jefe financiero y subdirector de hacienda. | D18: V | F18: Funcionario designado del área de contabilidad, Profesional Especializado, Jefe de oficina (Jefatura Financiera). | G18: La validacion de las ordenes de pago en el modulo de causacion del software financiero, la firma en las ordenes de pago.
A19: 5 | B19: Formular y ejecutar acciones correctivas - preventivas, planes de mejoramiento y actividades de autocontrol. | D19: A | F19: Funcionario designado del área de contabilidad, Profesional Especializado, Jefe de oficina (Jefatura Financiera). | G19: Las acciones que se realizan, como capacitaciones, planes de trabajo, cronogramas,manuales, formatos.
A20: Recursos: Equipo de Oficina – Recurso humano, Equipo de Cómputo Documentación Aplicada: Resolución 354 de 2007 Régimen de Contabilidad Pública, Resoluciones 355, 356 del 2007 Resolución 357 de 2008, Ley 80 de 1993, Ley 1150 de 2007, Decreto 734 de 2012, Decreto 111 de 1996, Estatuto Tributario Nacional, Ordenanzas estampillas, Acuerdo 229/2021. Ordenanzas No. 016 y 018 de Noviembre 28 de 2016. Ley 1819 de 2016, ISO 9001:2015,Decreto 1499 de 2017, Resoluciones 355, 356 del 2007 2007, Resolución 357 de 2008.
A21: Operación: c. Consolidación de la información de las dependencias que no se encuentran en red.
A22: 1 | B22: Establecer fechas de entrega por parte de las dependencias y entidades agregadas al municipio, de la información que se requiere para validar las transacciones, hechos economicos, operaciones financieras que concilien, validen y revelen la realidad de los estados financieros del Municipio. | D22: P | E22: Constatar que se de cumplimiento a las fechas establecidas para que la informacion sea consolidada | G22: Remision de oficios a las dependencias solicitando la informacion y la fecha limite de entrega. | H22: SERIE: ESTADOS FINANCIEROS
A23: 2 | B23: Examinar, verificar y registrar en los estados financieros la información suministrada por cada dependencia utilizando el software financiero. | D23: H | G23: Las notas de contabilidad registradas en el software financiero en el modulo de contabilidad. Evidencia punto de control: Oficios remisorios con solicitud de información
A24: 3 | B24: Analizar y verificar los resultados determinando su consistencia y pertinencia en el balance | D24: V | G24: El balance general y el estado de resultados.
A25: 4 | B25: Formular y ejecutar acciones correctivas - preventivas, planes de mejoramiento y actividades de autocontrol. | D25: A | G25: Las acciones que se realizan, como capacitaciones, planes de trabajo, cronogramas,manuales, formatos. | H25: SERIE: ACTAS SUBSERIA: ACTAS DE COMITÉ OPERATIVO
A26: Recursos: Equipo de Oficina – Recurso humano, Equipo de Cómputo Documentación Aplicada: Resolución 354 de 2007 Régimen de Contabilidad Pública, Resoluciones 355, 356 del 2007 Resolución 357 de 2008, Ley 80 de 1993, Ley 1150 de 2007, Decreto 734 de 2012, Decreto 111 de 1996, Estatuto Tributario Nacional, Ordenanzas estampillas, Acuerdo 229/2021. Ordenanzas No. 016 y 018 de Noviembre 28 de 2016. Ley 1819 de 2016, ISO 9001:2015,Decreto 1499 de 2017, Resoluciones 355, 356 del 2007 2007, Resolución 357 de 2008.
A27: Operación: d. Preparación, Elaboración y Reporte Contable CHIP
A28: 1 | B28: Establecer fechas de entrega a las entidades agregadas para que remitan la información contable que se requiere agregar en la presentacion de los estados financieros que se realizan cada trimestre. | D28: P | F28: Funcionario designado del área de contabilidad, Profesional Especializado, Jefe de oficina (Jefatura Financiera). | G28: Remision de oficios a las entidades agregadas solicitando la informacion y la fecha limite de entrega. | H28: SERIE: ESTADOS FINANCIEROS
A29: 2 | B29: Preparación, elaboración, agregación, validación y transmisión de la información en la plataforma de Contaduria General de la Nacion. | D29: H | F29: Funcionario designado del área de contabilidad, Profesional Especializado, Jefe de oficina (Jefatura Financiera). | G29: Presentancion y validacion en la pagina de la Contaduria.
A30: 3 | B30: Validar que la informacion del CHIP remitida este aceptada por la Contaduría General de la Nación, descargando el comprobante a traves de la pagina. | D30: V | E30: Verificar cada trimestre la fecha limite de entrega para dar cumplimiento a la misma. | F30: Funcionario designado del área de contabilidad, Profesional Especializado, Jefe de oficina (Jefatura Financiera). | G30: El registro de entrega de informacion que genera la Contaduria General de la Nacion. Evidencia control: recibido satisfactorio trimestral por parte de la CGN
A31: 4 | B31: Formular y ejecutar acciones correctivas - preventivas, planes de mejoramiento y actividades de autocontrol. | D31: A | F31: Funcionario designado del área de contabilidad, Profesional Especializado, Jefe de oficina (Jefatura Financiera). | G31: Las acciones que se realizan, como capacitaciones, planes de trabajo, cronogramas,manuales, formatos.
A32: Recursos: Equipo de Oficina – Recurso humano, Equipo de Cómputo Documentación Aplicada: Resolución 354 de 2007 Régimen de Contabilidad Pública, Resoluciones 355, 356 del 2007 Resolución 357 de 2008, Ley 80 de 1993, Ley 1150 de 2007, Decreto 734 de 2012, Decreto 111 de 1996, Estatuto Tributario Nacional, Ordenanzas estampillas, Acuerdo 229/2021. Ordenanzas No. 016 y 018 de Noviembre 28 de 2016. Ley 1819 de 2016, ISO 9001:2015,Decreto 1499 de 2017, Resoluciones 355, 356 del 2007 2007, Resolución 357 de 2008.
A34: Operación: e. Preparación y presentación otros informes
A35: 1 | B35: Consultar las fechas de entrega, para organizar la información financiera que se requiera en la elaboración de los balances, estado de resultados, e informes solicitados. | D35: P | E35: Dar respuesta o presentar los informes de manera oportuna. | F35: Funcionario designado del área de contabilidad, Profesional Especializado, Jefe de oficina (Jefatura Financiera). | G35: Plazos o cronogramas dados por los solicitantes de la informacion. Evidencia control: Estados financieros | H35: SERIE: INFORMES SUBSERIE: INFORMES A ORGANISMOS DE CONTROL Y VIGILANCIA
A36: 2 | B36: Presentar la información financiera, económica, social y ambiental a la Contraloría Municipal, a las entidades públicas y privadas, a los organismos de control, asi como, la rendición de Cuenta Anual a la Contraloría Municipal. | D36: H | F36: Funcionario designado del área de contabilidad, Profesional Especializado, Jefe de oficina (Jefatura Financiera). | G36: Los informes presentados, la presentacion de la rendicion de la cuenta en los formatos establecidos.
A37: 3 | B37: Remision oportuna de la informacion solicitada, asi como, la aceptación del cargue de los archivos financieros en el ente de control. | D37: V | F37: Funcionario designado del área de contabilidad, Profesional Especializado, Jefe de oficina (Jefatura Financiera). | G37: La firma de recibido o los radicados de la informacion.
A38: 4 | B38: Formular y ejecutar acciones correctivas y preventivas, planes de mejoramiento y actividades de autocontrol. | D38: A | F38: Funcionario designado del área de contabilidad, Profesional Especializado, Jefe de oficina (Jefatura Financiera). | G38: Las acciones que se realizan, como capacitaciones, planes de trabajo, cronogramas,manuales, formatos.
A39: Recursos: Equipo de Oficina – Recurso humano, Equipo de Cómputo Documentación Aplicada: Resolución 354 de 2007 Régimen de Contabilidad Pública, Resoluciones 355, 356 del 2007 Resolución 357 de 2008, Ley 80 de 1993, Ley 1150 de 2007, Decreto 734 de 2012, Decreto 111 de 1996, Estatuto Tributario Nacional, Ordenanzas estampillas, Acuerdo 229/2021. Ordenanzas No. 016 y 018 de Noviembre 28 de 2016. Ley 1819 de 2016, ISO 9001:2015,Decreto 1499 de 2017, Resoluciones 355, 356 del 2007 2007, Resolución 357 de 2008.
A40: Operación: f. Preparación y Presentación de Información exógena a la DIAN
A41: 1 | B41: Realizar un plan de trabajo determinando responsables, necesidades y plazos requeridos, analizando las normas y decretos expedidos por la DIAN, para la presentación. | D41: P | F41: Funcionario designado del área de contabilidad, Profesional Especializado, Jefe de oficina (Jefatura Financiera). | G41: Calendario tribuatrio expedido por la DIAN. | H41: SERIE: INFORMES SUBSERIE: Informes a organismos de control y vigilancia
A42: 2 | B42: Solicitar a la Secretaria de Educación Municipal y al Departamento Administrativo de Fortalecimiento Institucional la información sobre pagos y retenciones efectuadas en las nóminas de personal Administrativo y Docente y personal del Municipio para la elaboración del Formato "información de pagos o abonos en cuenta y retenciones en la fuente practicadas" la cual deberá ser enviada previamente revisada y verificada en el prevalidador de la DIAN. | D42: H | F42: Funcionario designado del área de contabilidad, Profesional Especializado, Jefe de oficina (Jefatura Financiera). | G42: Envio de oficios y correos electrónicos solicitando la información
...

Sheet 14.3 Inteligencia Tributaria
F1: =+'Procesos y Actividades'!M2 -> Código: M-SH-PGF-002 | G1: =+'Procesos y Actividades'!M3 -> Fecha: 08/05/2026 | H1: =+'Procesos y Actividades'!M4 -> Versión: 005
A2: # | B2: Tareas | D2: PHVA | E2: Puntos de control | F2: Responsable | G2: Registro/Evidencia | H2: Serie y subserie
A3: Actividad: 14.3 Inteligencia Tributaria
A4: Operación: a. Recolección y análisis de datos.
A5: 1 | B5: Diseñar e implementar indicadores que permitan evaluar el comportamiento de variables de interés para la Secretaría de Hacienda. | D5: P | F5: Funcionario designado para el respectivo observatorio, Jefe de Oficina (Inteligencia Tributaria). | G5: Página WEB del observatorio | H5: SERIE: REGISTRO DE LOS OBSERVATORIOS DE POLÍTICAS INSTITUCIONALES SUBSERIES: Registro del Observatorio de convenio de intercambio de datos Registro de observatorio de seguimiento y desarrollo de modelo Registro del Observatorio de Estudio de indicadores
A6: 2 | B6: Planificar los temas que son motivo de interés para la ciudad con el fin de adelantar análisis de coyuntura. | D6: P | F6: Funcionario designado para el respectivo observatorio, Jefe de Oficina (Inteligencia Tributaria). | G6: Página WEB del observatorio
A7: 3 | B7: Seleccionar las herramientas de análisis. | D7: P | F7: Funcionario designado para el respectivo observatorio, Jefe de Oficina (Inteligencia Tributaria). | G7: Página WEB del observatorio
A8: 4 | B8: Definir el tipo de informe técnico para hacer públicos los resultados. | D8: P | F8: Funcionario designado para el respectivo observatorio, Jefe de Oficina (Inteligencia Tributaria). | G8: Página WEB del observatorio
A9: 5 | B9: Hacer seguimiento a la publicación de datos oficiales de las diferentes entidades del estado y de la administración local, para su debido registro en las bases de datos de los Observatorios. | D9: H | F9: Funcionario designado para el respectivo observatorio, Jefe de Oficina (Inteligencia Tributaria). | G9: Página WEB del observatorio
A10: 6 | B10: Extraer, Transformar y Limpiar (ETL) los datos para conformar bases de datos de los Observatorios. | D10: H | F10: Funcionario designado para el respectivo observatorio, Jefe de Oficina (Inteligencia Tributaria). | G10: Página WEB del observatorio
A11: 7 | B11: Calcular indicadores a partir de los datos procesados por los Observatorios | D11: H | E11: Revisar que el cálculo del indicador se ajuste a la realidad económica mediante comparación con indicadores a nivel nacional | F11: Funcionario designado para el respectivo observatorio, Jefe de Oficina (Inteligencia Tributaria). | G11: Página WEB del observatorio Evidencia control: comparacion con estadisticas nacionales
A12: 8 | B12: Implementar modelos econométricos, de aprendizaje de máquina (Machine Learnig) y de simulación el procesamiento de datos que permita encontrar tendencias y relaciones de causalidad de las variables de interés operadas por los Observatorios. | D12: H | F12: Funcionario designado para el respectivo observatorio, Jefe de Oficina (Inteligencia Tributaria). | G12: Página WEB del observatorio
A13: 9 | B13: Elaborar tableros de control que requieran los Observatorios para garantizar una consulta amena y sencilla a los usuarios. | D13: H | F13: Funcionario designado para el respectivo observatorio, Jefe de Oficina (Inteligencia Tributaria). | G13: Página WEB del observatorio
A14: 10 | B14: Redactar los estudios técnicos de los Observatorios que apoyen la toma de decisiones del equipo directivo. | D14: H | F14: Funcionario designado para el respectivo observatorio, Jefe de Oficina (Inteligencia Tributaria). | G14: Página WEB del observatorio
A15: 11 | B15: Hacer seguimiento al impacto que tienen los Observatorios en la comunidad en general mediante las métricas de consulta del portal WEB. | D15: V | F15: Jefe de Oficina (Inteligencia Tributaria). | G15: Página WEB del observatorio
A16: 12 | B16: Verificar la realización de backup (información de respaldo) de la informació WEB de los Observatorios. | D16: V | F16: Jefe de Oficina (Inteligencia Tributaria). | G16: Página WEB del observatorio
A17: 13 | B17: Hacer seguimiento al impacto que tienen los Observatorios en la ciudad de Armenia mediante el conteo de la citación de artículos de los medios de comunicación locales. | D17: V | F17: Jefe de Oficina (Inteligencia Tributaria). | G17: Página WEB del observatorio
A18: 14 | B18: Formular y ejecutar acciones correctivas y preventivas de mejora, planes de mejoramiento y actividades de autocontrol de los procesos realizados por Inteligencia Tributaria. | D18: A | F18: Jefe de Oficina (Inteligencia Tributaria). | G18: Planes de Mejoramiento, Actsa de Comité
A19: 15 | B19: Investigar las tendencias en los métodos de análisis de datos para garantizar la aplicación del conocimiento de punta en los análisis de coyuntura de los Observatorios. | D19: A | F19: Jefe de Oficina (Inteligencia Tributaria). | G19: Policy Memo
A21: Recursos: Equipo de Oficina – Recurso humano, Equipo de Cómputo Documentación Aplicada: N/A ISO 9001-2015
A23: Elaborado por: | D23: Revisado por: | G23: Aprobado por:
A24: JUAN CARLOS VASQUEZ SORA Enlace de proceso | D24: NICOLAS MARTINEZ SANCLEMENTE Líder de Proceso | G24: Comité Operativo

Sheet 14.4.1 Tesoreria 
F1: =+'Procesos y Actividades'!M2 -> Código: M-SH-PGF-002 | G1: =+'Procesos y Actividades'!M3 -> Fecha: 08/05/2026 | H1: =+'Procesos y Actividades'!M4 -> Versión: 005
A2: # | B2: Tareas | D2: PHVA | E2: Punto de Control | F2: Responsable | G2: Registro/Evidencias | H2: Serie y subserie
A3: Actividad: 14.4 Gestión de Ingresos
A4: 14.4.1 Tesorería
A5: Operación: a. Caja General - Pago Causaciones
A6: 1 | B6: Establecer horarios de revisión de órdenes de pago, y preparar el pago de las mismas en el sistema correspondiente. | D6: P | F6: Jefe de Ingresos Tesorera General Profesional Universitario (Asignado para Caja General) | G6: Acta de Reunión (Equipo Financiero) | H6: SERIE: N/A SUBSERIE: N/A
A7: 2 | B7: Programar horarios de confirmación de pago en el sistema de la Tesorería Municipal, de acuerdo a la entidad bancaria origen de los recursos que corresponden a las fuentes de financiación, cierres financieros. | D7: P | F7: Jefe de Ingresos Tesorera General Profesional Universitario (Asignado para Caja General) | G7: Acta de Reunión (Equipo Financiero) | H7: SERIE: N/A SUBSERIE: N/A
A8: 3 | B8: Elaborar, comunicado escrito, expedido por la Tesorería Municipal, dirigido al área de Presupuesto y Contabilidad, informando el horario de recibido de órdenes de pago en esta dependencia. | D8: H | F8: Tesorera General | G8: Oficio Expedido por Tesorera | H8: SERIE: Circulares SUBSERIE: Circulares Informativas | I8: Acta 085 Planificación proceso de pagos del 10-jul-2025
A9: 4 | B9: Revisar órdenes de pago y documentos necesarios, para preparar transferencias que permitan pagar las obligaciones a descuentos aplicados en cuentas, proveedores, contratistas, obligaciones tributarias, etc, por fuente de financiación y en los portales bancarios correspondientes. | D9: H | F9: Funcionario Asignado por la Tesorera General Profesional Universitario (Asignado para Caja General) | G9: Causaciones Revisadas a Diario | H9: SERIE: COMPROBANTES CONTABLES SUBSERIE: Comprobantes de egreso | I9: Egresos mes de ago-sep-2025
A10: 5 | B10: Elaborar comprobante de egreso en el sistema financiero de la Tesorería Municipal, de las ordenes de pago por fuente de financiación y en las cuentas bancarias correspondientes. | D10: H | E10: Generar reporte de los Egresos del mes | F10: Funcionario Asignado por la Tesorera General Profesional Universitario (Asignado para Caja General) | G10: Comprobantes de Egresos Evidencia punto de control: Archivo de Excel generado por el sistema financiero con la relación de todos los pagos tesorales | H10: SERIE: COMPROBANTES CONTABLES SUBSERIE: Comprobantes de egreso
A11: 6 | B11: Preparar en portales bancarios, las transferencias para realizar los pagos a proveedores y contratistas, de acuerdo a la fuente de financiación requerida, en los horarios establecidos según entidad bancaria. | D11: H | F11: Profesional Universitario (Asignado para Caja General) | G11: Transferencias Montadas en Portales Bancarios | H11: SERIE: COMPROBANTES CONTABLES SUBSERIE: Comprobantes de egreso | I11: Anexo 1 Egresos mes de ago-sep-2025
A12: 7 | B12: Autorizar los pagos en el portal bancario, transferencias que se prepararon de acuerdo a la fuente de financiación y soportados por la causación correspondiente, en los horarios establecidos según banco origen. | D12: H | F12: Tesorera General | G12: Firma Comprobante Egreso | H12: SERIE: COMPROBANTES CONTABLES SUBSERIE: Comprobantes de egreso | I12: 3 firmas en los comprobantes de egreso
A13: 8 | B13: Revisar transferencias bancarias realizadas, para pago de obligaciones del Municipio, en cada portal bancario. | D13: V | F13: Funcionario Asignado por la Tesorera General Profesional Universitario (Asignado para Caja General) | G13: Pago Exitoso | H13: SERIE: COMPROBANTES CONTABLES SUBSERIE: Comprobantes de egreso
A14: 9 | B14: Hacer seguimiento mensual, del comportamiento de preparación de cuentas para transferencias requeridas desde las cuentas bancarias, con el fín de dar cumplimiento a las obligaciones que se deben pagar a Proveedores y Contratistas, según los horarios establecidos por la Tesorería Municipal. | D14: V | F14: Jefe de Ingresos Tesorera General Profesional Universitario (Asignado para Caja General) | G14: Acta de Reunión (Equipo Financiero) | H14: SERIE: N/A SUBSERIE: N/A | I14: Egresos mes de ago-sep-2025
A15: 10 | B15: Presentar ajustes de horarios, acciones de mejora o recomendaciones que permitan elevar el nivel de eficacia, de acuerdo a las tareas realizadas y confrontadas con la planificación referida. | D15: A | F15: Jefe de Ingresos Tesorera General Profesional Universitario (Asignado para Caja General) | G15: Acta de Reunión (Equipo Financiero) | H15: SERIE: N/A SUBSERIE: N/A
A17: Recursos: Equipo de Oficina – Equipo de Cómputo-- Recurso Humano Documentación Aplicada: Decreto 111 de 1996, ISO 9001:2015, Acuerdo 181/2020. Decreto 264/2018 art. 40 - Númeral B. ley 489/1998, Ley 1474/2011, ley 001/1990, decreto 133/2001,
A19: Operación: b. Caja General - Rgistro de Recaudo Recibido en Cuentas Bancarias
A20: 1 | B20: Programar horarios para el registro del recaudo recibido en las cuentas bancarias del Municipio de Armenia, y establecer aplicación de migración necesaria entre los sistemas financieros a cargo de la Tesorería Muncipal. | D20: P | F20: Jefe de Ingresos Tesorera General Profesional Universitario (Asignado para Caja General) | G20: Acta de Reunión (Equipo Financiero) | H20: SERIE: COMPROBANTES CONTABLES SUBSERIE: Comprobantes de ingreso
A21: 2 | B21: Realizar el registro de recaudo recibido en cuentas bancarias, en los horarios establecidos en la etapa de planeación. | D21: H | F21: Funcionario Asignado (Area Financiera) | G21: Repore de Registros Sistemas Tesorería
A22: 3 | B22: Aplicar la migración requerida entre los sistemas financieros del Municipio de Armenia, según los horarios establecidos en la etapa de planeacón de esta operación. | D22: H | E22: Cargar los ingresos de rentas mensual al sistema | F22: Funcionario Asignado por la Tesorera General | G22: Migración Aplicada Evidencia punto de control: Registro ingreso de renta mensual
A23: 4 | B23: Hacer seguimiento semanal del estado de registro y migración de datos, de los valores recibidos en bancos, para verificar el cumplimiento del registro de los ingresos en los horarios planeados. | D23: V | F23: Jefe de Ingresos Tesorera General Profesional Universitario (Asignado para Caja General) | G23: Herramienta de Excel
A24: 5 | B24: Entregar resultado de seguimiento mensual, y presentar propuestas de mejoramiento o ajuste en situaciones que no coinsidan con la meta esperada. | D24: A | F24: Cajero(a) General, Jefe de Oficina (Jefatura de Ingresos). | G24: Informe Resultados
A26: Recursos: Equipo de Oficina – Equipo de Cómputo-- Recurso Humano Documentación Aplicada: Decreto 111 de 1996, ISO 9001:2015. Acuerdo 017 de 2012 Estatuto Tributario Municipal, Decreto 1499 de 2017.
A28: Elaborado por: | D28: Revisado por: | G28: Aprobado por:
A29: LINA MARCELA GRISALES GÓMEZ Enlace de Proceso | D29: NICOLAS MARTINEZ SANCLEMENTE Líder de Proceso | G29: Comité Operativo

Sheet 14.4.2 Liquidación y fiscaliz
F1: =+'Procesos y Actividades'!M2 -> Código: M-SH-PGF-002 | G1: =+'Procesos y Actividades'!M3 -> Fecha: 08/05/2026 | H1: =+'Procesos y Actividades'!M4 -> Versión: 005
A2: # | B2: Tareas | D2: PHVA | E2: Punto de Control | F2: Responsable | G2: Registro/Evidencias | H2: Serie y subserie
A3: Actividad: 14.4 Gestión de Ingresos
A4: 14.4.2 Liquidación y fiscalización
A5: Operación: a. Declaraciones de impuesto de Industria y Comercio - Contribuyentes
A6: 1 | B6: Determinar los plazos para que los contribuyentes presenten y paguen las declaraciones correspondiente al impuesto Industria y Comercio. | D6: P | F6: Secretario de Hacienda Jefe de Ingresos Profesional Especializado Profesional Universitario - Funcionarios de Apoyo (Industria y comercio) | G6: Calendario Tributario | H6: SERIE: PROCESOS SUBSERIE: Procesos de embargos SERIE: PROCESOS DE COBRO COACTIVO
A7: 2 | B7: Establecer los medios mediante los cuales los contribuyentes, pueden presentar y pagar sus declaraciones de impuesto Industria y Comercio | D7: P | F7: Tesorera General Profesional Especializado Profesional Universitario | G7: Calendario Tributario
A8: 3 | B8: Identificar los contribuyentes omisos, que no presentaron la declaración de INDUCOM en los plazos establecidos en el calendario tributario, e iniciar la expedición de resolución sanción correspondiente. | D8: H | E8: Validación con el sistema de información del cumplimiento de la información del período gravable 2024 | F8: Profesional Especializado Profesional Universitario Funcionarios de Apoyo (Industria y comercio) | G8: Acto Administrativo Registro de Resoluciones en excel Evidencia control: Segunda invitación a declarar 2024
A9: 4 | B9: Atender los recursos recibidos de reconsideracion recibidos contra las resoluciones que imponen sanción por no declarar INDUCOM. | D9: H | F9: Profesional Especializado Profesional Universitario Funcionarios de Apoyo (Industria y comercio) | G9: Registro de Resoluciones Actualizada
A10: 5 | B10: Identificar las resoluciones ejecutoriadas y en firme, para iniciar cobro coactivo. | D10: H | F10: Profesional Universitario Funcionarios de Apoyo (Industria y comercio) | G10: Relación Resoluciones Trasladadas en físico a Ejecuciones Fiscales
A11: 6 | B11: Realizar seguimiento al cumplimiento de la presentación de declaración de Impuesto de Industria y Comercio, según lo registrado en el calendario tributario, informando cantidades y su estado. | D11: V | F11: Profesional Especializado Profesional Universitario Funcionarios de Apoyo (Industria y comercio) | G11: Informe de Getión
A12: 7 | B12: Formular y ejecutar acciones correctivas y preventivas de mejora, para atender las no conformidades o hallazgos observados en reunión trimestral de seguimiento de la operación. | D12: A | F12: Profesional Especializado Profesional Universitario Funcionarios de Apoyo (Industria y comercio) | G12: Informe de Acción de Mejora
A14: Recursos: Equipo de Oficina –Equipo de Cómputo-- Recurso Humano Documentación Aplicada: Estatuto Tributario Nacional, Acuerdo 017 de 2012, Constitución Política – Código de Procedimiento Administrativo y de lo Contencioso administrativo, ISO 9001:2015, Decreto 1499 de 2017, Calendario tributario vigente.
A16: Operación: b. Liquidaciónes Impuesto Predial y Complementarios
A17: 1 | B17: Definir criterios de parametrización del sistema, para llevar a cabo el procedimiento de liquidación oficial y expedición de facturas del impuesto predial. | D17: P | E17: Revisar la ficha técnica de liquidación de predial | F17: Jefe de Ingresos Tesorera General Profesional Especializado - Liquidación Profesional Universitario - Asignado para Predial | G17: Acta de Reunión Evidencia punto de control: ficha técnica de liquidación de predial | H17: SERIE: N/A SUBSERIE: N/A
A18: 2 | B18: Parametrizar el sistema de liquidación de predial, de acuerdo a los parametros establecidos en la reunión de planificación. | D18: H | F18: Administradores del Sistema Ingeniero de Sistemas, Asignado por la Tesorera General | G18: Ficha Técnica con parametrización realizada (proveedor del sistema). | H18: SERIE: N/A SUBSERIE: N/A
